BEGIN:VCALENDAR
VERSION:2.0
PRODID:-//Early Learning Coalition of Alachua County - ECPv6.5.1//NONSGML v1.0//EN
CALSCALE:GREGORIAN
METHOD:PUBLISH
X-WR-CALNAME:Early Learning Coalition of Alachua County
X-ORIGINAL-URL:https://elcalachua.org
X-WR-CALDESC:Events for Early Learning Coalition of Alachua County
REFRESH-INTERVAL;VALUE=DURATION:PT1H
X-Robots-Tag:noindex
X-PUBLISHED-TTL:PT1H
BEGIN:VTIMEZONE
TZID:UTC
BEGIN:STANDARD
TZOFFSETFROM:+0000
TZOFFSETTO:+0000
TZNAME:UTC
DTSTART:20260101T000000
END:STANDARD
END:VTIMEZONE
BEGIN:VEVENT
DTSTART;TZID=UTC:20260420T110000
DTEND;TZID=UTC:20260420T130000
DTSTAMP:20260420T020221
CREATED:20260406T160033Z
LAST-MODIFIED:20260406T160033Z
UID:6596-1776682800-1776690000@elcalachua.org
SUMMARY:ELC Info Session @ Library Partnership
DESCRIPTION:Another opportunity for families to receive in-person support and guidance with VPK\, School Readiness\, and childcare resources.\nRegister here: https://form.jotform.com/252885915055062
URL:https://elcalachua.org/index.php/event/elc-info-session-library-partnership-2/
END:VEVENT
END:VCALENDAR